BEGIN:VCALENDAR
VERSION:2.0
PRODID:-//Perfect Companion Malaysia - ECPv5.16.0//NONSGML v1.0//EN
CALSCALE:GREGORIAN
METHOD:PUBLISH
X-WR-CALNAME:Perfect Companion Malaysia
X-ORIGINAL-URL:https://www.perfectcompanion.com.my
X-WR-CALDESC:Events for Perfect Companion Malaysia
BEGIN:VTIMEZONE
TZID:UTC
BEGIN:STANDARD
TZOFFSETFROM:+0000
TZOFFSETTO:+0000
TZNAME:UTC
DTSTART:20160101T000000
END:STANDARD
END:VTIMEZONE
BEGIN:VEVENT
DTSTART;TZID=UTC:20161105T080000
DTEND;TZID=UTC:20161105T170000
DTSTAMP:20260423T171747
CREATED:20171215T073248Z
LAST-MODIFIED:20171215T073248Z
UID:349820-1478332800-1478365200@www.perfectcompanion.com.my
SUMMARY:SmartHeart Kids’ Adventure 2016 Orphanage Zoo Negara Trip
DESCRIPTION:[vc_row row_type=”row” use_row_as_full_screen_section=”no” type=”full_width” text_align=”left” box_shadow_on_row=”no”][vc_column][vc_empty_space image_repeat=”no-repeat”][vc_column_text]Title of the show: SmartHeart Kids’ Adventure 2016 Orphanage Zoo Negara Trip\nPlace: Zoo Negara\, Malaysia\nDate: 5th November 2016[/vc_column_text][vc_empty_space height=”15px” image_repeat=”no-repeat”][vc_column_text]The SmartHeart Kid’s Adventure Trip 2016 continues its saga to the ever famous Malaysian Tourism spot Zoo Negara Malaysia which is located at Hulu Kelang\, Kuala Lumpur was held on Saturday\, 5th November 2016 for its third time.This event was once again proudly sponsored and organized by SmartHeart\, and fully coordinated by us\, Petster. It was a fun educational trip combined by 9 various multiracial children orphanage homes in the Klang Valley. \nAccompanied by 25 guardians\, with a total of 260 lucky children respectfully from Agathians Shelter\, Rumah Aman \, Pietas Foster Home \, RACTAR Orphanage\, Sweet Care Welfare Society\, Peyakin Klang\, Ti- Ratana Home\, and Gurpuri Foundation. This brilliant program initiative main objective which is the 3rd time is of course is giving opportunities for the orphans to interact with animals\, while learning more about them. Plus educating the younger ones to love and appreciate animals better.[/vc_column_text][vc_empty_space height=”15px” image_repeat=”no-repeat”][vc_empty_space height=”15px” image_repeat=”no-repeat”][/vc_column][/vc_row]
URL:https://www.perfectcompanion.com.my/event/smartheart-kids-adventure-2016-orphanage-zoo-negara-trip/
CATEGORIES:Project
ATTACH;FMTTYPE=image/jpeg:https://www.perfectcompanion.com.my/wp-content/uploads/2017/12/14991882_10154235466943425_6127438246622424090_n-e1512285856356.jpg
END:VEVENT
END:VCALENDAR