BEGIN:VCALENDAR
VERSION:2.0
PRODID:-//Perfect Companion Malaysia - ECPv5.16.0//NONSGML v1.0//EN
CALSCALE:GREGORIAN
METHOD:PUBLISH
X-WR-CALNAME:Perfect Companion Malaysia
X-ORIGINAL-URL:https://www.perfectcompanion.com.my
X-WR-CALDESC:Events for Perfect Companion Malaysia
BEGIN:VTIMEZONE
TZID:Asia/Kuala_Lumpur
BEGIN:STANDARD
TZOFFSETFROM:+0800
TZOFFSETTO:+0800
TZNAME:+08
DTSTART:20180101T000000
END:STANDARD
END:VTIMEZONE
BEGIN:VEVENT
DTSTART;TZID=Asia/Kuala_Lumpur:20180115T100000
DTEND;TZID=Asia/Kuala_Lumpur:20180115T170000
DTSTAMP:20260420T050519
CREATED:20180102T015038Z
LAST-MODIFIED:20180102T015038Z
UID:349973-1516010400-1516035600@www.perfectcompanion.com.my
SUMMARY:SmartHeart SmartPet Cover Search Contest
DESCRIPTION:[vc_row row_type=”row” use_row_as_full_screen_section=”no” type=”full_width” text_align=”left” box_shadow_on_row=”no”][vc_column][vc_empty_space image_repeat=”no-repeat”][/vc_column][/vc_row][vc_row row_type=”row” use_row_as_full_screen_section=”no” type=”full_width” text_align=”left” box_shadow_on_row=”no”][vc_column width=”1/2″][vc_empty_space image_repeat=”no-repeat”][vc_single_image image=”349976″ img_size=”large”][vc_empty_space image_repeat=”no-repeat”][/vc_column][vc_column width=”1/2″][vc_empty_space image_repeat=”no-repeat”][vc_column_text]Are you ready to be a Cover Person of SmartHeart SmartPet Magazine? Visit our roadshow booth to take a photo & join the monthly contest! SmartHeart MY members can enjoy the Great Promotion Discount on SmartHeart Pet Food products & SHMY points collection. Exclusive gift for new registered SmartHeart MY member.[/vc_column_text][vc_empty_space image_repeat=”no-repeat”][vc_column_text] \nWinner Selection\n\n\nMonthly winners will be selected based on number of votes.\nLucky voters will be choosen randomly based from the voting list. The more you vote\, the higher chances to win!\n\n  \nWinner x1 : Cash Prize RM 1000 & 10\,000 pts \nVoters x5 : Cash Prize RM 250 & 5\,000 pts \n12 Months\, 12 Winners & 60 lucky voters stand a chance to win great prizes from SmarHeart Malaysia![/vc_column_text][/vc_column][/vc_row][vc_row row_type=”row” use_row_as_full_screen_section=”no” type=”full_width” text_align=”left” box_shadow_on_row=”no”][vc_column][vc_empty_space height=”75px” image_repeat=”no-repeat”][/vc_column][/vc_row]
URL:https://www.perfectcompanion.com.my/event/smartheart-smartpet-cover-search-contest/
CATEGORIES:Contest
ATTACH;FMTTYPE=image/jpeg:https://www.perfectcompanion.com.my/wp-content/uploads/2018/01/Cover-Page-Contest-Flyer-A5-1.jpg
END:VEVENT
END:VCALENDAR