BEGIN:VCALENDAR
VERSION:2.0
PRODID:-//Perfect Companion Malaysia - ECPv5.16.0//NONSGML v1.0//EN
CALSCALE:GREGORIAN
METHOD:PUBLISH
X-WR-CALNAME:Perfect Companion Malaysia
X-ORIGINAL-URL:https://www.perfectcompanion.com.my
X-WR-CALDESC:Events for Perfect Companion Malaysia
BEGIN:VTIMEZONE
TZID:UTC
BEGIN:STANDARD
TZOFFSETFROM:+0000
TZOFFSETTO:+0000
TZNAME:UTC
DTSTART:20170101T000000
END:STANDARD
END:VTIMEZONE
BEGIN:VEVENT
DTSTART;TZID=UTC:20171212T000000
DTEND;TZID=UTC:20171214T000000
DTSTAMP:20260420T140342
CREATED:20171211T170133Z
LAST-MODIFIED:20171211T170133Z
UID:349799-1513036800-1513209600@www.perfectcompanion.com.my
SUMMARY:SmartHeart Official Store 12/12 Sale
DESCRIPTION:[vc_row row_type=”row” use_row_as_full_screen_section=”no” type=”full_width” text_align=”left” box_shadow_on_row=”no”][vc_column][vc_empty_space image_repeat=”no-repeat”][vc_column_text]SmartHeart Official Store Sale is back! Get the hype of Lazada 12/12 and enjoy 20% discount by using promo code: ORSMH20.[/vc_column_text][vc_empty_space image_repeat=”no-repeat”][vc_column_text]Promo period : 12 Dec – 14 Dec 2017. \nClick here to purchase now > http://www.lazada.com.my/perfect-companion-m-sdn-bhd \nTerms & Conditions applied.[/vc_column_text][vc_empty_space height=”50px” image_repeat=”no-repeat”][/vc_column][/vc_row]
URL:https://www.perfectcompanion.com.my/event/smartheart-official-store-1212-sale/
CATEGORIES:Event
ATTACH;FMTTYPE=image/jpeg:https://www.perfectcompanion.com.my/wp-content/uploads/2017/12/LZD-12.jpg
END:VEVENT
END:VCALENDAR