BEGIN:VCALENDAR
VERSION:2.0
PRODID:-//Perfect Companion Malaysia - ECPv5.16.0//NONSGML v1.0//EN
CALSCALE:GREGORIAN
METHOD:PUBLISH
X-WR-CALNAME:Perfect Companion Malaysia
X-ORIGINAL-URL:https://www.perfectcompanion.com.my
X-WR-CALDESC:Events for Perfect Companion Malaysia
BEGIN:VTIMEZONE
TZID:Asia/Kuala_Lumpur
BEGIN:STANDARD
TZOFFSETFROM:+0800
TZOFFSETTO:+0800
TZNAME:+08
DTSTART:20180101T000000
END:STANDARD
END:VTIMEZONE
BEGIN:VEVENT
DTSTART;TZID=Asia/Kuala_Lumpur:20180401T100000
DTEND;TZID=Asia/Kuala_Lumpur:20180401T100000
DTSTAMP:20260423T214925
CREATED:20180326T004336Z
LAST-MODIFIED:20180326T004707Z
UID:350168-1522576800-1522576800@www.perfectcompanion.com.my
SUMMARY:Moments Together Photo Contest
DESCRIPTION:[vc_row row_type=”row” use_row_as_full_screen_section=”no” type=”full_width” text_align=”left” box_shadow_on_row=”no”][vc_column width=”1/2″][vc_single_image image=”350169″ img_size=”full” alignment=”center”][vc_empty_space image_repeat=”no-repeat”][/vc_column][vc_column width=”1/2″][vc_empty_space image_repeat=”no-repeat”][vc_column_text]Do you still remember when was the last time you and your little companion took a good picture together? Why don’t you spare some time and took a good picture with your companion and join the SmartHeart Moments Together Photo Contest! 10 best photo will be selected to win away SmartHeart Product in total worth RM 8500 and SmartHeart MY Mobile app worth 250\,000 points! Lets get ready and wait for April\, stay tuned with us okay!  \nContest Period: 1 April 2018 – 31 May 2018 \nPrizes:\n10x Best Photo : SH Product RM 750.00 & SHMY App Point 15\,000. \n20x Mystery Gift : SH Product RM 50.00 & SHMY App Point 5\,000. \n  \nKindly click link for further info on the contest: https://www.perfectcompanion.com.my/contest/moments-together-photo-contest/[/vc_column_text][/vc_column][/vc_row][vc_row row_type=”row” use_row_as_full_screen_section=”no” type=”full_width” text_align=”left” box_shadow_on_row=”no”][vc_column][vc_empty_space height=”75px” image_repeat=”no-repeat”][/vc_column][/vc_row]
URL:https://www.perfectcompanion.com.my/event/moments-together-photo-contest/
LOCATION:SmartHeart Cat Malaysia Facebook
CATEGORIES:Contest
END:VEVENT
END:VCALENDAR