BEGIN:VCALENDAR
VERSION:2.0
PRODID:-//Perfect Companion Malaysia - ECPv5.16.0//NONSGML v1.0//EN
CALSCALE:GREGORIAN
METHOD:PUBLISH
X-WR-CALNAME:Perfect Companion Malaysia
X-ORIGINAL-URL:https://www.perfectcompanion.com.my
X-WR-CALDESC:Events for Perfect Companion Malaysia
BEGIN:VTIMEZONE
TZID:Asia/Kuala_Lumpur
BEGIN:STANDARD
TZOFFSETFROM:+0800
TZOFFSETTO:+0800
TZNAME:+08
DTSTART:20260101T000000
END:STANDARD
END:VTIMEZONE
BEGIN:VEVENT
DTSTART;VALUE=DATE:20260420
DTEND;VALUE=DATE:20260624
DTSTAMP:20260421T224730
CREATED:20260421T031333Z
LAST-MODIFIED:20260421T034146Z
UID:353987-1776643200-1782259199@www.perfectcompanion.com.my
SUMMARY:SmartHeart Pet Buddies Tour
DESCRIPTION:[vc_row row_type=”row” use_row_as_full_screen_section=”no” type=”full_width” text_align=”left” box_shadow_on_row=”no”][vc_column][vc_single_image image=”353988″ img_size=”medium”][vc_empty_space image_repeat=”no-repeat”][vc_column_text]Snowchi Go Travel: SmartHeart’s 100-Location Roving Roadshow is Taking Over Malaysia! \nCalling all pet parents! The most adorable truck on the road is heading your way. SmartHeart has officially launched the Snowchi Go Travel Roving Roadshow\, a massive nationwide tour visiting 100 locations across Peninsular Malaysia. \nFrom April 20\, 2026\, to June 23\, 2026\, the bright pink Snowchi LED truck will be traveling through eight major states\, bringing exclusive deals\, freebies\, and a whole lot of “kawaii” energy to your neighborhood. \n[/vc_column_text][vc_empty_space image_repeat=”no-repeat”][vc_single_image image=”353991″ img_size=”medium”][vc_empty_space image_repeat=”no-repeat”][vc_column_text]Don’t Miss Out! \nThe roadshow runs for a limited time and offers are valid while stocks last. Make sure to follow\nthe pink truck and give your pets the best nutrition they deserve. Terms and conditions apply. Stay tuned to SmartHeart’s official social media pages for the specific daily schedule and exact GPS coordinates of the 100 locations! \nFacebook: https://www.facebook.com/MySmartHeart/ \nInstagram: https://www.instagram.com/smartheartcat_my/[/vc_column_text][vc_empty_space image_repeat=”no-repeat”][/vc_column][/vc_row]
URL:https://www.perfectcompanion.com.my/event/smartheart-pet-buddies-tour/
CATEGORIES:Event
END:VEVENT
END:VCALENDAR