BEGIN:VCALENDAR
VERSION:2.0
PRODID:-//Perfect Companion Malaysia - ECPv5.16.0//NONSGML v1.0//EN
CALSCALE:GREGORIAN
METHOD:PUBLISH
X-WR-CALNAME:Perfect Companion Malaysia
X-ORIGINAL-URL:https://www.perfectcompanion.com.my
X-WR-CALDESC:Events for Perfect Companion Malaysia
BEGIN:VTIMEZONE
TZID:UTC
BEGIN:STANDARD
TZOFFSETFROM:+0000
TZOFFSETTO:+0000
TZNAME:UTC
DTSTART:20170101T000000
END:STANDARD
END:VTIMEZONE
BEGIN:VEVENT
DTSTART;TZID=UTC:20171101T000000
DTEND;TZID=UTC:20171205T235900
DTSTAMP:20260424T024444
CREATED:20171029T234127Z
LAST-MODIFIED:20171219T190722Z
UID:349272-1509494400-1512518340@www.perfectcompanion.com.my
SUMMARY:SmartHeart Poetry Contest
DESCRIPTION:[vc_row row_type=”row” use_row_as_full_screen_section=”no” type=”full_width” text_align=”left” box_shadow_on_row=”no”][vc_column][vc_empty_space image_repeat=”no-repeat”][/vc_column][/vc_row][vc_row row_type=”row” use_row_as_full_screen_section=”no” type=”full_width” text_align=”left” box_shadow_on_row=”no”][vc_column][vc_empty_space image_repeat=”no-repeat”][vc_empty_space image_repeat=”no-repeat”][vc_empty_space image_repeat=”no-repeat”][vc_column_text] \n\n\n\n\n\n\n\nExpress and share your creativity with us by creating a poem. A simple one is good enough but remember to make sure it RHYME! Be creative\, be smart\, love SmartHeart! \nCreate a poem (Bahasa or English) with SmartHeart as the keyword. Poem must be atleast four lines. You may submit up to three poem at one time. Be creative and make sure it rhyme! \n  \n\n\n\n\n\n\n[/vc_column_text][vc_empty_space image_repeat=”no-repeat”][vc_column_text]Mechanism : \n\nDownload & register yourself at SHMY app.\nScreenshot your registered name in SHMY.\nCreate a poem (in Bahasa or English) & include SmartHeart as the keyword.\nMake sure it RHYME.\nSubmit your entry at https://goo.gl/skBER3\n\n[/vc_column_text][vc_empty_space image_repeat=”no-repeat”][vc_column_text]Prize: \nGrand Prize         : Pet Tree & SH Product RM 100 \n2nd Place             : Automatic Pet Feeder & SH Product RM 50 \n8x Consolations : Pet Accessories & SH Product RM 30[/vc_column_text][vc_empty_space image_repeat=”no-repeat”][vc_text_separator title=”Winner” text_in_box=”yes” text_position=”center” box_border_style=”solid” animation=”default” line_border_style=”solid” line_dots=”no”][vc_empty_space image_repeat=”no-repeat”][vc_column_text] \nCONGRATULATIONS to all winners of SmartHeart Poetry Mini Contest! \n  \nGrand Prize : Nor Fajrina Zahari (IC No: xxxxxx-05-5186) \n2nd Place : Noorhidayu Mohd Nasaruddin (IC No: xxxxxx-08-5382) \n  \n[/vc_column_text][vc_single_image image=”349842″ img_size=”large” alignment=”center”][/vc_column][/vc_row][vc_row row_type=”row” use_row_as_full_screen_section=”no” type=”full_width” text_align=”left” box_shadow_on_row=”no”][vc_column][vc_empty_space image_repeat=”no-repeat”][vc_column_text]Rules for the poem:\n* To include SmartHeart as keyword.\n* Poem must be atleast four lines.\n* May submit up to 3 poems at one time.\n* Poem can be either in Malay or English (choose one) \nTerms and conditions applied.[/vc_column_text][vc_empty_space height=”50px” image_repeat=”no-repeat”][/vc_column][/vc_row]
URL:https://www.perfectcompanion.com.my/event/smartheart-poetry-contest/
CATEGORIES:Contest
ATTACH;FMTTYPE=image/jpeg:https://www.perfectcompanion.com.my/wp-content/uploads/2017/10/FB-Contest-Poetry-Contest-Nov-.jpg
END:VEVENT
BEGIN:VEVENT
DTSTART;VALUE=DATE:20171205
DTEND;VALUE=DATE:20171206
DTSTAMP:20260424T024444
CREATED:20171205T013551Z
LAST-MODIFIED:20171205T014049Z
UID:349741-1512432000-1512432000@www.perfectcompanion.com.my
SUMMARY:SmartHeart Gold Cat Food Exclusive Discount!
DESCRIPTION:[vc_row row_type=”row” use_row_as_full_screen_section=”no” type=”full_width” text_align=”left” box_shadow_on_row=”no”][vc_column][vc_empty_space image_repeat=”no-repeat”][vc_column_text]Exclusive 15% discount for SmartHeart Gold is happening now\, and get 30% royalty discount for your next purchase in December![/vc_column_text][vc_empty_space image_repeat=”no-repeat”][vc_column_text]* Only applicable for SmartHeart Gold Cat Food 1.2 kg\n* Promotion valid for selected petshop\n* Refer link for selected petshop list > https://goo.gl/5rrisv \n* 15% discount is valid starting 1 Nov – 30 Nov 2017.\n* 30% discount only valid starting 1 Dec – 31 Dec 2017.[/vc_column_text][vc_empty_space image_repeat=”no-repeat”][/vc_column][/vc_row][vc_row row_type=”row” use_row_as_full_screen_section=”no” type=”full_width” text_align=”left” box_shadow_on_row=”no”][vc_column][vc_column_text]What are you waiting for? Grab it while stock last! \nTerms & Condition apply.[/vc_column_text][vc_empty_space image_repeat=”no-repeat”][vc_column_text]#smartheartgold #smartheartgoldcatfood #catfood #premiumcatfood[/vc_column_text][vc_empty_space image_repeat=”no-repeat”][/vc_column][/vc_row]
URL:https://www.perfectcompanion.com.my/event/smartheart-gold-cat-food-exclusive-discount/
ATTACH;FMTTYPE=image/jpeg:https://www.perfectcompanion.com.my/wp-content/uploads/2017/12/SHGC-Nov-Dec-Promo.jpg
END:VEVENT
END:VCALENDAR